BEGIN:VCALENDAR
VERSION:2.0
PRODID:-//MPX | Melting Point Extracts - ECPv5.16.4//NONSGML v1.0//EN
CALSCALE:GREGORIAN
METHOD:PUBLISH
X-ORIGINAL-URL:https://meltingpointextracts.com
X-WR-CALDESC:Events for MPX | Melting Point Extracts
REFRESH-INTERVAL;VALUE=DURATION:PT1H
X-Robots-Tag:noindex
X-PUBLISHED-TTL:PT1H
BEGIN:VTIMEZONE
TZID:America/New_York
BEGIN:DAYLIGHT
TZOFFSETFROM:-0500
TZOFFSETTO:-0400
TZNAME:EDT
DTSTART:20230312T070000
END:DAYLIGHT
BEGIN:STANDARD
TZOFFSETFROM:-0400
TZOFFSETTO:-0500
TZNAME:EST
DTSTART:20231105T060000
END:STANDARD
END:VTIMEZONE
BEGIN:VEVENT
DTSTART;TZID=America/New_York:20230221T150000
DTEND;TZID=America/New_York:20230221T170000
DTSTAMP:20260422T121348
CREATED:20230213T145425Z
LAST-MODIFIED:20230213T145719Z
UID:4898-1676991600-1676998800@meltingpointextracts.com
SUMMARY:MPX Pop-Up at Nature’s Care and Wellness
DESCRIPTION:30% off MPX Products All Day Long!\n\nShare this
URL:https://meltingpointextracts.com/event/mpx-pop-up-at-sweetbuds-6/
LOCATION:Nature’s Care & Wellness\, 4925 Pulaski Hwy\, Suite A\, Perryville\, MD\, 21903\, United States
CATEGORIES:Maryland
ATTACH;FMTTYPE=image/jpeg:https://meltingpointextracts.com/wp-content/uploads/2020/11/MPX_Event_MD2_R1.jpg
END:VEVENT
END:VCALENDAR