BEGIN:VCALENDAR
VERSION:2.0
PRODID:-//MPX | Melting Point Extracts - ECPv5.16.4//NONSGML v1.0//EN
CALSCALE:GREGORIAN
METHOD:PUBLISH
X-ORIGINAL-URL:https://meltingpointextracts.com
X-WR-CALDESC:Events for MPX | Melting Point Extracts
REFRESH-INTERVAL;VALUE=DURATION:PT1H
X-Robots-Tag:noindex
X-PUBLISHED-TTL:PT1H
BEGIN:VTIMEZONE
TZID:America/New_York
BEGIN:DAYLIGHT
TZOFFSETFROM:-0500
TZOFFSETTO:-0400
TZNAME:EDT
DTSTART:20210314T070000
END:DAYLIGHT
BEGIN:STANDARD
TZOFFSETFROM:-0400
TZOFFSETTO:-0500
TZNAME:EST
DTSTART:20211107T060000
END:STANDARD
END:VTIMEZONE
BEGIN:VEVENT
DTSTART;TZID=America/New_York:20210710T110000
DTEND;TZID=America/New_York:20210710T130000
DTSTAMP:20260421T212906
CREATED:20210623T233426Z
LAST-MODIFIED:20210623T233426Z
UID:2530-1625914800-1625922000@meltingpointextracts.com
SUMMARY:MPX In-Store Event at Health for Life Baltimore
DESCRIPTION:Share this
URL:https://meltingpointextracts.com/event/mpx-in-store-event-at-health-for-life-baltimore/
LOCATION:Health for Life Baltimore\, 6807 Rolling Mill Rd\, Baltimore\, MD\, 21224\, United States
CATEGORIES:Maryland
ATTACH;FMTTYPE=image/jpeg:https://meltingpointextracts.com/wp-content/uploads/2020/11/MPX_Event_MD_R1.jpg
END:VEVENT
BEGIN:VEVENT
DTSTART;TZID=America/New_York:20210710T110000
DTEND;TZID=America/New_York:20210710T130000
DTSTAMP:20260421T212906
CREATED:20210623T233603Z
LAST-MODIFIED:20210623T233603Z
UID:2532-1625914800-1625922000@meltingpointextracts.com
SUMMARY:MPX In-Store Event at Peninsula Alternative Health
DESCRIPTION:Share this
URL:https://meltingpointextracts.com/event/mpx-in-store-event-at-peninsula-alternative-health/
LOCATION:Peninsula Alternative Health\, 1003 Mt Hermon Rd\, Salisbury\, MD\, 21804\, United States
CATEGORIES:Maryland
ATTACH;FMTTYPE=image/jpeg:https://meltingpointextracts.com/wp-content/uploads/2020/11/MPX_Event_MD2_R1.jpg
END:VEVENT
BEGIN:VEVENT
DTSTART;TZID=America/New_York:20210710T133000
DTEND;TZID=America/New_York:20210710T153000
DTSTAMP:20260421T212906
CREATED:20210623T233659Z
LAST-MODIFIED:20210623T233659Z
UID:2534-1625923800-1625931000@meltingpointextracts.com
SUMMARY:MPX In-Store Event at Health for Life White Marsh
DESCRIPTION:Share this
URL:https://meltingpointextracts.com/event/mpx-in-store-event-at-health-for-life-white-marsh/
LOCATION:Health for Life White Marsh\, 4741 Ridge Rd\, Nottingham\, MD\, 21236\, United States
CATEGORIES:Maryland
ATTACH;FMTTYPE=image/jpeg:https://meltingpointextracts.com/wp-content/uploads/2020/11/MPX_Event_MD3_R1.jpg
END:VEVENT
BEGIN:VEVENT
DTSTART;TZID=America/New_York:20210710T160000
DTEND;TZID=America/New_York:20210710T180000
DTSTAMP:20260421T212906
CREATED:20210623T233813Z
LAST-MODIFIED:20210623T233813Z
UID:2536-1625932800-1625940000@meltingpointextracts.com
SUMMARY:MPX In-Store Event at Greenlabs
DESCRIPTION:Share this
URL:https://meltingpointextracts.com/event/mpx-in-store-event-at-greenlabs/
LOCATION:Greenlabs\, 1522 Eastern Ave\, Baltimore\, MD\, 21231\, United States
CATEGORIES:Maryland
ATTACH;FMTTYPE=image/jpeg:https://meltingpointextracts.com/wp-content/uploads/2020/11/MPX_Event_MD_R1.jpg
END:VEVENT
END:VCALENDAR